BEGIN:VCALENDAR
PRODID:-//Solspace/Calendar//EN
VERSION:2.0
CALSCALE:GREGORIAN
BEGIN:VEVENT
UID:4ee4001ec9b9198cf0413859fa42bd2e@solspace.com
DTSTAMP:20260425T032955
LOCATION:Hybrid: Health Discovery Building Auditorium (HDB 1.208) & Z
 oom
DTSTART:20260810T120000
DTEND:20260810T130000
SUMMARY:Health Social Work Visiting Speaker: Between What’s Right 
 and What’s Possible
END:VEVENT
END:VCALENDAR