BEGIN:VCALENDAR
PRODID:-//Solspace/Calendar//EN
VERSION:2.0
CALSCALE:GREGORIAN
BEGIN:VEVENT
UID:62df010b9e977a12d783f8676970937d@solspace.com
DTSTAMP:20260425T033833
LOCATION:Zoom
DTSTART:20260505T073000
DTEND:20260505T083000
SUMMARY:Neurology Department Lecture: Mitochondrial Disorders
END:VEVENT
END:VCALENDAR