BEGIN:VCALENDAR
PRODID:-//Solspace/Calendar//EN
VERSION:2.0
CALSCALE:GREGORIAN
BEGIN:VEVENT
UID:966b4a5f8d7179eeea5ec603bbde8eb3@solspace.com
DTSTAMP:20260425T033419
LOCATION:Zoom
DTSTART:20260827T180000
DTEND:20260827T193000
SUMMARY:AMPATH/MAPAS México Monthly Seminar: Gerontology
END:VEVENT
END:VCALENDAR