BEGIN:VCALENDAR
PRODID:-//Solspace/Calendar//EN
VERSION:2.0
CALSCALE:GREGORIAN
BEGIN:VEVENT
UID:2472ae0895ba31573e93c9de472c68fd@solspace.com
DTSTAMP:20260423T013702
LOCATION:Capital Factory
DTSTART:20260430T140000
DTEND:20260430T180000
SUMMARY:Texas Health Catalyst Roundup and Rodeo
END:VEVENT
END:VCALENDAR