BEGIN:VCALENDAR
PRODID:-//Solspace/Calendar//EN
VERSION:2.0
CALSCALE:GREGORIAN
BEGIN:VEVENT
UID:9e2afa6161db7140ecebc047c6ca0015@solspace.com
DTSTAMP:20260423T115507
LOCATION:Health Discovery Building
DTSTART:20260423T130000
DTEND:20260423T173000
SUMMARY:Dell Medical School Annual Research Symposium and Ken Shine 
 Awards
END:VEVENT
END:VCALENDAR